BEGIN:VCALENDAR
VERSION:2.0
PRODID:-//The Whale Sanctuary Project | Back to Nature - ECPv6.15.20//NONSGML v1.0//EN
CALSCALE:GREGORIAN
METHOD:PUBLISH
X-WR-CALNAME:The Whale Sanctuary Project | Back to Nature
X-ORIGINAL-URL:https://whalesanctuaryproject.org
X-WR-CALDESC:Events for The Whale Sanctuary Project | Back to Nature
REFRESH-INTERVAL;VALUE=DURATION:PT1H
X-Robots-Tag:noindex
X-PUBLISHED-TTL:PT1H
BEGIN:VTIMEZONE
TZID:America/New_York
BEGIN:DAYLIGHT
TZOFFSETFROM:-0500
TZOFFSETTO:-0400
TZNAME:EDT
DTSTART:20190310T070000
END:DAYLIGHT
BEGIN:STANDARD
TZOFFSETFROM:-0400
TZOFFSETTO:-0500
TZNAME:EST
DTSTART:20191103T060000
END:STANDARD
BEGIN:DAYLIGHT
TZOFFSETFROM:-0500
TZOFFSETTO:-0400
TZNAME:EDT
DTSTART:20200308T070000
END:DAYLIGHT
BEGIN:STANDARD
TZOFFSETFROM:-0400
TZOFFSETTO:-0500
TZNAME:EST
DTSTART:20201101T060000
END:STANDARD
BEGIN:DAYLIGHT
TZOFFSETFROM:-0500
TZOFFSETTO:-0400
TZNAME:EDT
DTSTART:20210314T070000
END:DAYLIGHT
BEGIN:STANDARD
TZOFFSETFROM:-0400
TZOFFSETTO:-0500
TZNAME:EST
DTSTART:20211107T060000
END:STANDARD
END:VTIMEZONE
BEGIN:VEVENT
DTSTART;TZID=America/New_York:20200910T153000
DTEND;TZID=America/New_York:20200910T163000
DTSTAMP:20260422T173952
CREATED:20200904T145600Z
LAST-MODIFIED:20200904T153001Z
UID:6557-1599751800-1599755400@whalesanctuaryproject.org
SUMMARY:Dolphin Dialogues: A Conversation with Dr. Denise Herzing
DESCRIPTION:Join us for a conversation between pioneering dolphin researcher Dr. Denise Herzing and Whale Sanctuary Project President Dr. Lori Marino as they explore the world of dolphin societies\, communication and personhood. \nThey’ll talk about Denise’s decades-long work with a society of free-ranging dolphins\, what it means to observe dolphin etiquette (!)\, and her ground-breaking studies using machine learning and artificial intelligence to understand dolphin communication. And they’ll explore the question of how close we are to really “decoding” dolphin dialogues. \nFinally\, they’ll discuss whether dolphins have the degree of advanced cognition and autonomy to be recognized as “persons” with certain fundamental legal rights. \nDr. Denise Herzing is Founder and Research Director of the Wild Dolphin Project\, a 32-year study of the Atlantic spotted dolphins inhabiting Bahamian waters. \nJoin us for this deep dive with one of the leading dolphin field researchers in the world. \nRegister for the webinar here.\nBring your questions or send them in advance by email.\nAnd then join us on Thursday\, September 10th at 3:30 pm EDT.
URL:https://whalesanctuaryproject.org/event/dolphin-dialogues-a-conversation-with-dr-denise-herzing/
ATTACH;FMTTYPE=image/jpeg:https://whalesanctuaryproject.org/wp-content/uploads/Dolphin-Dialogues-640.jpg
END:VEVENT
END:VCALENDAR